BEGIN:VCALENDAR
VERSION:2.0
PRODID:-//StreamRadar//Match Calendar//EN
CALSCALE:GREGORIAN
METHOD:PUBLISH
X-WR-CALNAME:Santos vs Cruzeiro
X-WR-TIMEZONE:America/New_York
BEGIN:VEVENT
UID:match-5504560@streamradar.soccer
SUMMARY:Santos vs Cruzeiro
DTSTAMP:20260421T104327Z
DTSTART;TZID=America/New_York:20260913T160000
DTEND;TZID=America/New_York:20260913T180000
LOCATION:Estadio Urbano Caldeira
DESCRIPTION:Dónde ver Santos vs Cruzeiro en Brasil - Brasileirão. Transmi
 sión en vivo y programación de TV.\nhttps://streamradar.soccer/es/match/5
 504560/santos-vs-cruzeiro/
URL;VALUE=URI:https://streamradar.soccer/es/match/5504560/santos-vs-cruzeir
 o/
STATUS:CONFIRMED
END:VEVENT
END:VCALENDAR
