BEGIN:VCALENDAR
VERSION:2.0
PRODID:-//StreamRadar//Match Calendar//EN
CALSCALE:GREGORIAN
METHOD:PUBLISH
X-WR-CALNAME:Remo vs Flamengo
X-WR-TIMEZONE:America/New_York
BEGIN:VEVENT
UID:match-5504548@streamradar.soccer
SUMMARY:Remo vs Flamengo
DTSTAMP:20260421T104325Z
DTSTART;TZID=America/New_York:20260906T160000
DTEND;TZID=America/New_York:20260906T180000
LOCATION:Estadio Evandro Almeida
DESCRIPTION:Dónde ver Remo vs Flamengo en Brasil - Brasileirão. Transmisi
 ón en vivo y programación de TV.\nhttps://streamradar.soccer/es/match/550
 4548/remo-vs-flamengo/
URL;VALUE=URI:https://streamradar.soccer/es/match/5504548/remo-vs-flamengo/
STATUS:CONFIRMED
END:VEVENT
END:VCALENDAR
