BEGIN:VCALENDAR
VERSION:2.0
PRODID:-//StreamRadar//Match Calendar//EN
CALSCALE:GREGORIAN
METHOD:PUBLISH
X-WR-CALNAME:Rosario Central vs Argentinos Juniors
X-WR-TIMEZONE:America/New_York
BEGIN:VEVENT
UID:match-5504197@streamradar.soccer
SUMMARY:Rosario Central vs Argentinos Juniors
DTSTAMP:20260423T095648Z
DTSTART;TZID=America/New_York:20260920T160000
DTEND;TZID=America/New_York:20260920T180000
LOCATION:Estadio Gigante de Arroyito
DESCRIPTION:Dónde ver Rosario Central vs Argentinos Juniors en Argentina -
  Liga Profesional. Transmisión en vivo y programación de TV.\nhttps://str
 eamradar.soccer/es/match/5504197/rosario-central-vs-argentinos-juniors/
URL;VALUE=URI:https://streamradar.soccer/es/match/5504197/rosario-central-v
 s-argentinos-juniors/
STATUS:CONFIRMED
END:VEVENT
END:VCALENDAR
