BEGIN:VCALENDAR
VERSION:2.0
PRODID:-//StreamRadar//Match Calendar//EN
CALSCALE:GREGORIAN
METHOD:PUBLISH
X-WR-CALNAME:Holzheimer vs Monheim
X-WR-TIMEZONE:America/New_York
BEGIN:VEVENT
UID:match-5410787@streamradar.soccer
SUMMARY:Holzheimer vs Monheim
DTSTAMP:20260421T071530Z
DTSTART;TZID=America/New_York:20260501T090000
DTEND;TZID=America/New_York:20260501T110000
LOCATION:Kunstrasenplatz Bezirkssportanlage Holzheim (Neuss)
DESCRIPTION:Dónde ver Holzheimer vs Monheim en Alemania - Oberliga. Transm
 isión en vivo y programación de TV.\nhttps://streamradar.soccer/es/match/
 5410787/holzheimer-vs-monheim/
URL;VALUE=URI:https://streamradar.soccer/es/match/5410787/holzheimer-vs-mon
 heim/
STATUS:CONFIRMED
END:VEVENT
END:VCALENDAR
