BEGIN:VCALENDAR
VERSION:2.0
PRODID:-//StreamRadar//Match Calendar//EN
CALSCALE:GREGORIAN
METHOD:PUBLISH
X-WR-CALNAME:Göppinger SV vs TS Neckarsulm
X-WR-TIMEZONE:America/New_York
BEGIN:VEVENT
UID:match-5410017@streamradar.soccer
SUMMARY:Göppinger SV vs TS Neckarsulm
DTSTAMP:20260423T133522Z
DTSTART;TZID=America/New_York:20260501T123000
DTEND;TZID=America/New_York:20260501T143000
LOCATION:Stadion SV Göppingen (Göppingen)
DESCRIPTION:Dónde ver Göppinger SV vs TS Neckarsulm en Alemania - Oberlig
 a. Transmisión en vivo y programación de TV.\nhttps://streamradar.soccer/
 es/match/5410017/goppinger-sv-vs-ts-neckarsulm/
URL;VALUE=URI:https://streamradar.soccer/es/match/5410017/goppinger-sv-vs-t
 s-neckarsulm/
STATUS:CONFIRMED
END:VEVENT
END:VCALENDAR
