BEGIN:VCALENDAR
VERSION:2.0
PRODID:-//StreamRadar//Match Calendar//EN
CALSCALE:GREGORIAN
METHOD:PUBLISH
X-WR-CALNAME:Richmond Kickers vs Charlotte Independence
X-WR-TIMEZONE:America/New_York
BEGIN:VEVENT
UID:match-5620834@streamradar.soccer
SUMMARY:Richmond Kickers vs Charlotte Independence
DTSTAMP:20260424T160252Z
DTSTART;TZID=America/New_York:20260425T180000
DTEND;TZID=America/New_York:20260425T200000
LOCATION:City Stadium
DESCRIPTION:Where to watch Richmond Kickers vs Charlotte Independence in th
 e USL Cup. Live stream and TV listings.\nhttps://streamradar.soccer/en/matc
 h/5620834/richmond-kickers-vs-charlotte-independence/
URL;VALUE=URI:https://streamradar.soccer/en/match/5620834/richmond-kickers-
 vs-charlotte-independence/
STATUS:CONFIRMED
END:VEVENT
END:VCALENDAR
