BEGIN:VCALENDAR
VERSION:2.0
PRODID:-//StreamRadar//Match Calendar//EN
CALSCALE:GREGORIAN
METHOD:PUBLISH
X-WR-CALNAME:Inter Milano vs Milan
X-WR-TIMEZONE:America/New_York
BEGIN:VEVENT
UID:match-5620208@streamradar.soccer
SUMMARY:Inter Milano vs Milan
DTSTAMP:20260424T105616Z
DTSTART;TZID=America/New_York:20260502T123000
DTEND;TZID=America/New_York:20260502T143000
LOCATION:Stadio Ernesto Breda
DESCRIPTION:Where to watch Inter Milano vs Milan in the Serie A (women). Li
 ve stream and TV listings.\nhttps://streamradar.soccer/en/match/5620208/int
 er-milano-vs-milan/
URL;VALUE=URI:https://streamradar.soccer/en/match/5620208/inter-milano-vs-m
 ilan/
STATUS:CONFIRMED
END:VEVENT
END:VCALENDAR
