BEGIN:VCALENDAR
VERSION:2.0
PRODID:-//StreamRadar//Match Calendar//EN
CALSCALE:GREGORIAN
METHOD:PUBLISH
X-WR-CALNAME:Sanjoanense vs Paredes
X-WR-TIMEZONE:America/New_York
BEGIN:VEVENT
UID:match-5620191@streamradar.soccer
SUMMARY:Sanjoanense vs Paredes
DTSTAMP:20260424T105614Z
DTSTART;TZID=America/New_York:20260426T100000
DTEND;TZID=America/New_York:20260426T120000
DESCRIPTION:Where to watch Sanjoanense vs Paredes in the Liga 3. Live strea
 m and TV listings.\nhttps://streamradar.soccer/en/match/5620191/sanjoanense
 -vs-paredes/
URL;VALUE=URI:https://streamradar.soccer/en/match/5620191/sanjoanense-vs-pa
 redes/
STATUS:CONFIRMED
END:VEVENT
END:VCALENDAR
