BEGIN:VCALENDAR
VERSION:2.0
PRODID:-//StreamRadar//Match Calendar//EN
CALSCALE:GREGORIAN
METHOD:PUBLISH
X-WR-CALNAME:Hunters vs Khoromkhon
X-WR-TIMEZONE:America/New_York
BEGIN:VEVENT
UID:match-5619667@streamradar.soccer
SUMMARY:Hunters vs Khoromkhon
DTSTAMP:20260423T110712Z
DTSTART;TZID=America/New_York:20260509T030000
DTEND;TZID=America/New_York:20260509T050000
DESCRIPTION:Where to watch Hunters vs Khoromkhon in the Premier League. Liv
 e stream and TV listings.\nhttps://streamradar.soccer/en/match/5619667/hunt
 ers-vs-khoromkhon/
URL;VALUE=URI:https://streamradar.soccer/en/match/5619667/hunters-vs-khorom
 khon/
STATUS:CONFIRMED
END:VEVENT
END:VCALENDAR
