BEGIN:VCALENDAR
VERSION:2.0
PRODID:-//StreamRadar//Match Calendar//EN
CALSCALE:GREGORIAN
METHOD:PUBLISH
X-WR-CALNAME:Métlaoui vs ES Tunis
X-WR-TIMEZONE:America/New_York
BEGIN:VEVENT
UID:match-5619662@streamradar.soccer
SUMMARY:Métlaoui vs ES Tunis
DTSTAMP:20260423T110806Z
DTSTART;TZID=America/New_York:20260517T080000
DTEND;TZID=America/New_York:20260517T100000
LOCATION:Metlaoui Municipal stadium
DESCRIPTION:Where to watch Métlaoui vs ES Tunis in the Tunisian Cup. Live 
 stream and TV listings.\nhttps://streamradar.soccer/en/match/5619662/metlao
 ui-vs-es-tunis/
URL;VALUE=URI:https://streamradar.soccer/en/match/5619662/metlaoui-vs-es-tu
 nis/
STATUS:CONFIRMED
END:VEVENT
END:VCALENDAR
