BEGIN:VCALENDAR
VERSION:2.0
PRODID:-//StreamRadar//Match Calendar//EN
CALSCALE:GREGORIAN
METHOD:PUBLISH
X-WR-CALNAME:SalPa vs TPS
X-WR-TIMEZONE:America/New_York
BEGIN:VEVENT
UID:match-5619552@streamradar.soccer
SUMMARY:SalPa vs TPS
DTSTAMP:20260423T110710Z
DTSTART;TZID=America/New_York:20260429T090000
DTEND;TZID=America/New_York:20260429T110000
LOCATION:Salon urheilupuisto
DESCRIPTION:Where to watch SalPa vs TPS in the Suomen Cup. Live stream and 
 TV listings.\nhttps://streamradar.soccer/en/match/5619552/salpa-vs-tps/
URL;VALUE=URI:https://streamradar.soccer/en/match/5619552/salpa-vs-tps/
STATUS:CONFIRMED
END:VEVENT
END:VCALENDAR
