BEGIN:VCALENDAR
VERSION:2.0
PRODID:-//StreamRadar//Match Calendar//EN
CALSCALE:GREGORIAN
METHOD:PUBLISH
X-WR-CALNAME:Töölön Taisto vs JäPS
X-WR-TIMEZONE:America/New_York
BEGIN:VEVENT
UID:match-5619536@streamradar.soccer
SUMMARY:Töölön Taisto vs JäPS
DTSTAMP:20260423T110711Z
DTSTART;TZID=America/New_York:20260428T110000
DTEND;TZID=America/New_York:20260428T130000
LOCATION:Toolon Pallokentta
DESCRIPTION:Where to watch Töölön Taisto vs JäPS in the Suomen Cup. Liv
 e stream and TV listings.\nhttps://streamradar.soccer/en/match/5619536/tool
 on-taisto-vs-japs/
URL;VALUE=URI:https://streamradar.soccer/en/match/5619536/toolon-taisto-vs-
 japs/
STATUS:CONFIRMED
END:VEVENT
END:VCALENDAR
