BEGIN:VCALENDAR
VERSION:2.0
PRODID:-//StreamRadar//Match Calendar//EN
CALSCALE:GREGORIAN
METHOD:PUBLISH
X-WR-CALNAME:Amora vs Lusitano Évora 1911
X-WR-TIMEZONE:America/New_York
BEGIN:VEVENT
UID:match-5619517@streamradar.soccer
SUMMARY:Amora vs Lusitano Évora 1911
DTSTAMP:20260423T110802Z
DTSTART;TZID=America/New_York:20260425T100000
DTEND;TZID=America/New_York:20260425T120000
LOCATION:Medideira Stadium
DESCRIPTION:Where to watch Amora vs Lusitano Évora 1911 in the Liga 3. Liv
 e stream and TV listings.\nhttps://streamradar.soccer/en/match/5619517/amor
 a-vs-lusitano-evora-1911/
URL;VALUE=URI:https://streamradar.soccer/en/match/5619517/amora-vs-lusitano
 -evora-1911/
STATUS:CONFIRMED
END:VEVENT
END:VCALENDAR
