BEGIN:VCALENDAR
VERSION:2.0
PRODID:-//StreamRadar//Match Calendar//EN
CALSCALE:GREGORIAN
METHOD:PUBLISH
X-WR-CALNAME:Sanat Naft vs Ario Eslamshahr
X-WR-TIMEZONE:America/New_York
BEGIN:VEVENT
UID:match-5618860@streamradar.soccer
SUMMARY:Sanat Naft vs Ario Eslamshahr
DTSTAMP:20260422T105423Z
DTSTART;TZID=America/New_York:20260514T110000
DTEND;TZID=America/New_York:20260514T130000
LOCATION:Takhti Stadium
DESCRIPTION:Where to watch Sanat Naft vs Ario Eslamshahr in the Azadegan Le
 ague. Live stream and TV listings.\nhttps://streamradar.soccer/en/match/561
 8860/sanat-naft-vs-ario-eslamshahr/
URL;VALUE=URI:https://streamradar.soccer/en/match/5618860/sanat-naft-vs-ari
 o-eslamshahr/
STATUS:CONFIRMED
END:VEVENT
END:VCALENDAR
