BEGIN:VCALENDAR
VERSION:2.0
PRODID:-//StreamRadar//Match Calendar//EN
CALSCALE:GREGORIAN
METHOD:PUBLISH
X-WR-CALNAME:Kafr Qasim vs Hapoel Ra'anana
X-WR-TIMEZONE:America/New_York
BEGIN:VEVENT
UID:match-5618800@streamradar.soccer
SUMMARY:Kafr Qasim vs Hapoel Ra'anana
DTSTAMP:20260422T114238Z
DTSTART;TZID=America/New_York:20260519T120000
DTEND;TZID=America/New_York:20260519T140000
DESCRIPTION:Where to watch Kafr Qasim vs Hapoel Ra'anana in the Liga Leumit
 . Live stream and TV listings.\nhttps://streamradar.soccer/en/match/5618800
 /kafr-qasim-vs-hapoel-raanana/
URL;VALUE=URI:https://streamradar.soccer/en/match/5618800/kafr-qasim-vs-hap
 oel-raanana/
STATUS:CONFIRMED
END:VEVENT
END:VCALENDAR
