BEGIN:VCALENDAR
VERSION:2.0
PRODID:-//StreamRadar//Match Calendar//EN
CALSCALE:GREGORIAN
METHOD:PUBLISH
X-WR-CALNAME:Maccabi Kabilio Jaffa vs Hapoel Acre
X-WR-TIMEZONE:America/New_York
BEGIN:VEVENT
UID:match-5618781@streamradar.soccer
SUMMARY:Maccabi Kabilio Jaffa vs Hapoel Acre
DTSTAMP:20260422T121027Z
DTSTART;TZID=America/New_York:20260424T090000
DTEND;TZID=America/New_York:20260424T110000
LOCATION:Shkhunat Hatikva Stadium (Tel Aviv)
DESCRIPTION:Where to watch Maccabi Kabilio Jaffa vs Hapoel Acre in the Liga
  Leumit. Live stream and TV listings.\nhttps://streamradar.soccer/en/match/
 5618781/maccabi-kabilio-jaffa-vs-hapoel-acre/
URL;VALUE=URI:https://streamradar.soccer/en/match/5618781/maccabi-kabilio-j
 affa-vs-hapoel-acre/
STATUS:CONFIRMED
END:VEVENT
END:VCALENDAR
