BEGIN:VCALENDAR
VERSION:2.0
PRODID:-//StreamRadar//Match Calendar//EN
CALSCALE:GREGORIAN
METHOD:PUBLISH
X-WR-CALNAME:Real Kashmir vs Namdhari
X-WR-TIMEZONE:America/New_York
BEGIN:VEVENT
UID:match-5618727@streamradar.soccer
SUMMARY:Real Kashmir vs Namdhari
DTSTAMP:20260422T104120Z
DTSTART;TZID=America/New_York:20260504T090000
DTEND;TZID=America/New_York:20260504T110000
LOCATION:TRC Polo Synthetic Turf Ground
DESCRIPTION:Where to watch Real Kashmir vs Namdhari in the I-League. Live s
 tream and TV listings.\nhttps://streamradar.soccer/en/match/5618727/real-ka
 shmir-vs-namdhari/
URL;VALUE=URI:https://streamradar.soccer/en/match/5618727/real-kashmir-vs-n
 amdhari/
STATUS:CONFIRMED
END:VEVENT
END:VCALENDAR
