BEGIN:VCALENDAR
VERSION:2.0
PRODID:-//StreamRadar//Match Calendar//EN
CALSCALE:GREGORIAN
METHOD:PUBLISH
X-WR-CALNAME:Skalica vs FK Košice
X-WR-TIMEZONE:America/New_York
BEGIN:VEVENT
UID:match-5618699@streamradar.soccer
SUMMARY:Skalica vs FK Košice
DTSTAMP:20260422T121150Z
DTSTART;TZID=America/New_York:20260505T120000
DTEND;TZID=America/New_York:20260505T140000
DESCRIPTION:Where to watch Skalica vs FK Košice in the Niké liga. Live st
 ream and TV listings.\nhttps://streamradar.soccer/en/match/5618699/skalica-
 vs-fk-kosice/
URL;VALUE=URI:https://streamradar.soccer/en/match/5618699/skalica-vs-fk-kos
 ice/
STATUS:CONFIRMED
END:VEVENT
END:VCALENDAR
