BEGIN:VCALENDAR
VERSION:2.0
PRODID:-//StreamRadar//Match Calendar//EN
CALSCALE:GREGORIAN
METHOD:PUBLISH
X-WR-CALNAME:Mineros de Zacatecas vs Atlético Morelia
X-WR-TIMEZONE:America/New_York
BEGIN:VEVENT
UID:match-5618487@streamradar.soccer
SUMMARY:Mineros de Zacatecas vs Atlético Morelia
DTSTAMP:20260422T104218Z
DTSTART;TZID=America/New_York:20260422T210000
DTEND;TZID=America/New_York:20260422T230000
LOCATION:Estadio Carlos Vega Villalba
DESCRIPTION:Where to watch Mineros De Zacatecas vs Atlético Morelia in the
  Liga de Expansión MX. Live stream and TV listings.\nhttps://streamradar.s
 occer/en/match/5618487/mineros-de-zacatecas-vs-atletico-morelia/
URL;VALUE=URI:https://streamradar.soccer/en/match/5618487/mineros-de-zacate
 cas-vs-atletico-morelia/
STATUS:CONFIRMED
END:VEVENT
END:VCALENDAR
