BEGIN:VCALENDAR
VERSION:2.0
PRODID:-//StreamRadar//Match Calendar//EN
CALSCALE:GREGORIAN
METHOD:PUBLISH
X-WR-CALNAME:Murang'a SEAL vs Mara Sugar
X-WR-TIMEZONE:America/New_York
BEGIN:VEVENT
UID:match-5618137@streamradar.soccer
SUMMARY:Murang'a SEAL vs Mara Sugar
DTSTAMP:20260421T162745Z
DTSTART;TZID=America/New_York:20260530T080000
DTEND;TZID=America/New_York:20260530T100000
DESCRIPTION:Where to watch Murang'a SEAL vs Mara Sugar in the Kenyan Premie
 r League. Live stream and TV listings.\nhttps://streamradar.soccer/en/match
 /5618137/muranga-seal-vs-mara-sugar/
URL;VALUE=URI:https://streamradar.soccer/en/match/5618137/muranga-seal-vs-m
 ara-sugar/
STATUS:CONFIRMED
END:VEVENT
END:VCALENDAR
