BEGIN:VCALENDAR
VERSION:2.0
PRODID:-//StreamRadar//Match Calendar//EN
CALSCALE:GREGORIAN
METHOD:PUBLISH
X-WR-CALNAME:Beitar Jerusalem vs Hapoel Tel Aviv
X-WR-TIMEZONE:America/New_York
BEGIN:VEVENT
UID:match-5618081@streamradar.soccer
SUMMARY:Beitar Jerusalem vs Hapoel Tel Aviv
DTSTAMP:20260421T104449Z
DTSTART;TZID=America/New_York:20260523T130000
DTEND;TZID=America/New_York:20260523T150000
LOCATION:Teddy Stadium
DESCRIPTION:Where to watch Beitar Jerusalem vs Hapoel Tel Aviv in the Ligat
  Ha'Al. Live stream and TV listings.\nhttps://streamradar.soccer/en/match/5
 618081/beitar-jerusalem-vs-hapoel-tel-aviv/
URL;VALUE=URI:https://streamradar.soccer/en/match/5618081/beitar-jerusalem-
 vs-hapoel-tel-aviv/
STATUS:CONFIRMED
END:VEVENT
END:VCALENDAR
