BEGIN:VCALENDAR
VERSION:2.0
PRODID:-//StreamRadar//Match Calendar//EN
CALSCALE:GREGORIAN
METHOD:PUBLISH
X-WR-CALNAME:Macará vs Alianza Atlético
X-WR-TIMEZONE:America/New_York
BEGIN:VEVENT
UID:match-5617997@streamradar.soccer
SUMMARY:Macará vs Alianza Atlético
DTSTAMP:20260421T141609Z
DTSTART;TZID=America/New_York:20260521T220000
DTEND;TZID=America/New_York:20260522T000000
LOCATION:Estadio Bellavista
DESCRIPTION:Where to watch Macará vs Alianza Atlético in the Copa Sudamer
 icana. Live stream and TV listings.\nhttps://streamradar.soccer/en/match/56
 17997/macara-vs-alianza-atletico/
URL;VALUE=URI:https://streamradar.soccer/en/match/5617997/macara-vs-alianza
 -atletico/
STATUS:CONFIRMED
END:VEVENT
END:VCALENDAR
