BEGIN:VCALENDAR
VERSION:2.0
PRODID:-//StreamRadar//Match Calendar//EN
CALSCALE:GREGORIAN
METHOD:PUBLISH
X-WR-CALNAME:Al Mosul vs Gharraf
X-WR-TIMEZONE:America/New_York
BEGIN:VEVENT
UID:match-5617421@streamradar.soccer
SUMMARY:Al Mosul vs Gharraf
DTSTAMP:20260421T062213Z
DTSTART;TZID=America/New_York:20260502T100000
DTEND;TZID=America/New_York:20260502T120000
DESCRIPTION:Where to watch Al Mosul vs Gharraf in the Iraqi Premier League.
  Live stream and TV listings.\nhttps://streamradar.soccer/en/match/5617421/
 al-mosul-vs-gharraf/
URL;VALUE=URI:https://streamradar.soccer/en/match/5617421/al-mosul-vs-gharr
 af/
STATUS:CONFIRMED
END:VEVENT
END:VCALENDAR
