BEGIN:VCALENDAR
VERSION:2.0
PRODID:-//StreamRadar//Match Calendar//EN
CALSCALE:GREGORIAN
METHOD:PUBLISH
X-WR-CALNAME:Baghdad vs Al Zawra'a
X-WR-TIMEZONE:America/New_York
BEGIN:VEVENT
UID:match-5617408@streamradar.soccer
SUMMARY:Baghdad vs Al Zawra'a
DTSTAMP:20260421T042205Z
DTSTART;TZID=America/New_York:20260426T123000
DTEND;TZID=America/New_York:20260426T143000
LOCATION:Bagdad Stadium (Baġdād (Bagdad))
DESCRIPTION:Where to watch Baghdad vs Al Zawra'a in the Iraqi Premier Leagu
 e. Live stream and TV listings.\nhttps://streamradar.soccer/en/match/561740
 8/baghdad-vs-al-zawra-a/
URL;VALUE=URI:https://streamradar.soccer/en/match/5617408/baghdad-vs-al-zaw
 ra-a/
STATUS:CONFIRMED
END:VEVENT
END:VCALENDAR
