BEGIN:VCALENDAR
VERSION:2.0
PRODID:-//StreamRadar//Match Calendar//EN
CALSCALE:GREGORIAN
METHOD:PUBLISH
X-WR-CALNAME:Al Nassr vs Al Ahli
X-WR-TIMEZONE:America/New_York
BEGIN:VEVENT
UID:match-5617388@streamradar.soccer
SUMMARY:Al Nassr vs Al Ahli
DTSTAMP:20260420T044425Z
DTSTART;TZID=America/New_York:20260422T120000
DTEND;TZID=America/New_York:20260422T140000
DESCRIPTION:Where to watch Al Nassr vs Al Ahli in the AFC Champions League 
 Two. Live stream and TV listings.\nhttps://streamradar.soccer/en/match/5617
 388/al-nassr-vs-al-ahli/
URL;VALUE=URI:https://streamradar.soccer/en/match/5617388/al-nassr-vs-al-ah
 li/
STATUS:CONFIRMED
END:VEVENT
END:VCALENDAR
