BEGIN:VCALENDAR
VERSION:2.0
PRODID:-//StreamRadar//Match Calendar//EN
CALSCALE:GREGORIAN
METHOD:PUBLISH
X-WR-CALNAME:Brazil U17 vs Ecuador U17
X-WR-TIMEZONE:America/New_York
BEGIN:VEVENT
UID:match-5617382@streamradar.soccer
SUMMARY:Brazil U17 vs Ecuador U17
DTSTAMP:20260420T044424Z
DTSTART;TZID=America/New_York:20260503T160000
DTEND;TZID=America/New_York:20260503T180000
DESCRIPTION:Where to watch Brazil U17 vs Ecuador U17 in the Sudamericano Su
 b-17 Femenino. Live stream and TV listings.\nhttps://streamradar.soccer/en/
 match/5617382/brazil-u17-vs-ecuador-u17/
URL;VALUE=URI:https://streamradar.soccer/en/match/5617382/brazil-u17-vs-ecu
 ador-u17/
STATUS:CONFIRMED
END:VEVENT
END:VCALENDAR
