BEGIN:VCALENDAR
VERSION:2.0
PRODID:-//StreamRadar//Match Calendar//EN
CALSCALE:GREGORIAN
METHOD:PUBLISH
X-WR-CALNAME:Ecuador U17 vs Peru U17
X-WR-TIMEZONE:America/New_York
BEGIN:VEVENT
UID:match-5617377@streamradar.soccer
SUMMARY:Ecuador U17 vs Peru U17
DTSTAMP:20260420T044150Z
DTSTART;TZID=America/New_York:20260429T190000
DTEND;TZID=America/New_York:20260429T210000
DESCRIPTION:Where to watch Ecuador U17 vs Peru U17 in the Sudamericano Sub-
 17 Femenino. Live stream and TV listings.\nhttps://streamradar.soccer/en/ma
 tch/5617377/ecuador-u17-vs-peru-u17/
URL;VALUE=URI:https://streamradar.soccer/en/match/5617377/ecuador-u17-vs-pe
 ru-u17/
STATUS:CONFIRMED
END:VEVENT
END:VCALENDAR
