BEGIN:VCALENDAR
VERSION:2.0
PRODID:-//StreamRadar//Match Calendar//EN
CALSCALE:GREGORIAN
METHOD:PUBLISH
X-WR-CALNAME:Reipas vs PuiU Helsinki
X-WR-TIMEZONE:America/New_York
BEGIN:VEVENT
UID:match-5616959@streamradar.soccer
SUMMARY:Reipas vs PuiU Helsinki
DTSTAMP:20260421T095927Z
DTSTART;TZID=America/New_York:20260508T113000
DTEND;TZID=America/New_York:20260508T133000
LOCATION:Lahden kisapuisto
DESCRIPTION:Where to watch Reipas vs PuiU Helsinki in the Kakkonen. Live st
 ream and TV listings.\nhttps://streamradar.soccer/en/match/5616959/reipas-v
 s-puiu-helsinki/
URL;VALUE=URI:https://streamradar.soccer/en/match/5616959/reipas-vs-puiu-he
 lsinki/
STATUS:CONFIRMED
END:VEVENT
END:VCALENDAR
