BEGIN:VCALENDAR
VERSION:2.0
PRODID:-//StreamRadar//Match Calendar//EN
CALSCALE:GREGORIAN
METHOD:PUBLISH
X-WR-CALNAME:Awassa Kenema vs Sheger Ketema
X-WR-TIMEZONE:America/New_York
BEGIN:VEVENT
UID:match-5616908@streamradar.soccer
SUMMARY:Awassa Kenema vs Sheger Ketema
DTSTAMP:20260421T114450Z
DTSTART;TZID=America/New_York:20260504T090000
DTEND;TZID=America/New_York:20260504T110000
DESCRIPTION:Where to watch Awassa Kenema vs Sheger Ketema in the Premier Le
 ague. Live stream and TV listings.\nhttps://streamradar.soccer/en/match/561
 6908/awassa-kenema-vs-sheger-ketema/
URL;VALUE=URI:https://streamradar.soccer/en/match/5616908/awassa-kenema-vs-
 sheger-ketema/
STATUS:CONFIRMED
END:VEVENT
END:VCALENDAR
