BEGIN:VCALENDAR
VERSION:2.0
PRODID:-//StreamRadar//Match Calendar//EN
CALSCALE:GREGORIAN
METHOD:PUBLISH
X-WR-CALNAME:AE Zakakiou vs Ahironas / Onisilos
X-WR-TIMEZONE:America/New_York
BEGIN:VEVENT
UID:match-5616891@streamradar.soccer
SUMMARY:AE Zakakiou vs Ahironas / Onisilos
DTSTAMP:20260421T080748Z
DTSTART;TZID=America/New_York:20260421T100000
DTEND;TZID=America/New_York:20260421T120000
LOCATION:Ammochostos Stadium
DESCRIPTION:Where to watch AE Zakakiou vs Ahironas / Onisilos in the 2. Div
 ision. Live stream and TV listings.\nhttps://streamradar.soccer/en/match/56
 16891/ae-zakakiou-vs-ahironas-onisilos/
URL;VALUE=URI:https://streamradar.soccer/en/match/5616891/ae-zakakiou-vs-ah
 ironas-onisilos/
STATUS:CONFIRMED
END:VEVENT
END:VCALENDAR
