BEGIN:VCALENDAR
VERSION:2.0
PRODID:-//StreamRadar//Match Calendar//EN
CALSCALE:GREGORIAN
METHOD:PUBLISH
X-WR-CALNAME:Bangor Celtic vs River Valley Rangers
X-WR-TIMEZONE:America/New_York
BEGIN:VEVENT
UID:match-5616842@streamradar.soccer
SUMMARY:Bangor Celtic vs River Valley Rangers
DTSTAMP:20260421T080749Z
DTSTART;TZID=America/New_York:20260510T060000
DTEND;TZID=America/New_York:20260510T080000
DESCRIPTION:Where to watch Bangor Celtic vs River Valley Rangers in the FAI
  Cup. Live stream and TV listings.\nhttps://streamradar.soccer/en/match/561
 6842/bangor-celtic-vs-river-valley-rangers/
URL;VALUE=URI:https://streamradar.soccer/en/match/5616842/bangor-celtic-vs-
 river-valley-rangers/
STATUS:CONFIRMED
END:VEVENT
END:VCALENDAR
