BEGIN:VCALENDAR
VERSION:2.0
PRODID:-//StreamRadar//Match Calendar//EN
CALSCALE:GREGORIAN
METHOD:PUBLISH
X-WR-CALNAME:Dobrudzha 1919 vs Lokomotiv Sofia 1929
X-WR-TIMEZONE:America/New_York
BEGIN:VEVENT
UID:match-5616821@streamradar.soccer
SUMMARY:Dobrudzha 1919 vs Lokomotiv Sofia 1929
DTSTAMP:20260421T110427Z
DTSTART;TZID=America/New_York:20260501T130000
DTEND;TZID=America/New_York:20260501T150000
LOCATION:Druzhba
DESCRIPTION:Where to watch Dobrudzha 1919 vs Lokomotiv Sofia 1929 in the Pa
 rva Liga. Live stream and TV listings.\nhttps://streamradar.soccer/en/match
 /5616821/dobrudzha-1919-vs-lokomotiv-sofia-1929/
URL;VALUE=URI:https://streamradar.soccer/en/match/5616821/dobrudzha-1919-vs
 -lokomotiv-sofia-1929/
STATUS:CONFIRMED
END:VEVENT
END:VCALENDAR
