BEGIN:VCALENDAR
VERSION:2.0
PRODID:-//StreamRadar//Match Calendar//EN
CALSCALE:GREGORIAN
METHOD:PUBLISH
X-WR-CALNAME:Bidco United vs Shabana
X-WR-TIMEZONE:America/New_York
BEGIN:VEVENT
UID:match-5616169@streamradar.soccer
SUMMARY:Bidco United vs Shabana
DTSTAMP:20260421T042151Z
DTSTART;TZID=America/New_York:20260517T090000
DTEND;TZID=America/New_York:20260517T110000
DESCRIPTION:Where to watch Bidco United vs Shabana in the Kenyan Premier Le
 ague. Live stream and TV listings.\nhttps://streamradar.soccer/en/match/561
 6169/bidco-united-vs-shabana/
URL;VALUE=URI:https://streamradar.soccer/en/match/5616169/bidco-united-vs-s
 habana/
STATUS:CONFIRMED
END:VEVENT
END:VCALENDAR
