BEGIN:VCALENDAR
VERSION:2.0
PRODID:-//StreamRadar//Match Calendar//EN
CALSCALE:GREGORIAN
METHOD:PUBLISH
X-WR-CALNAME:Tigers vs Cayman Athletic
X-WR-TIMEZONE:America/New_York
BEGIN:VEVENT
UID:match-5616097@streamradar.soccer
SUMMARY:Tigers vs Cayman Athletic
DTSTAMP:20260421T080712Z
DTSTART;TZID=America/New_York:20260419T200000
DTEND;TZID=America/New_York:20260419T220000
LOCATION:T.E. McField Sports Centre (George Town)
DESCRIPTION:Where to watch Tigers vs Cayman Athletic in the Cayman Islands 
 Premier League. Live stream and TV listings.\nhttps://streamradar.soccer/en
 /match/5616097/tigers-vs-cayman-athletic/
URL;VALUE=URI:https://streamradar.soccer/en/match/5616097/tigers-vs-cayman-
 athletic/
STATUS:CONFIRMED
END:VEVENT
END:VCALENDAR
