BEGIN:VCALENDAR
VERSION:2.0
PRODID:-//StreamRadar//Match Calendar//EN
CALSCALE:GREGORIAN
METHOD:PUBLISH
X-WR-CALNAME:Ulinzi Stars vs Tusker
X-WR-TIMEZONE:America/New_York
BEGIN:VEVENT
UID:match-5615351@streamradar.soccer
SUMMARY:Ulinzi Stars vs Tusker
DTSTAMP:20260421T042201Z
DTSTART;TZID=America/New_York:20260516T090000
DTEND;TZID=America/New_York:20260516T110000
DESCRIPTION:Where to watch Ulinzi Stars vs Tusker in the Kenyan Premier Lea
 gue. Live stream and TV listings.\nhttps://streamradar.soccer/en/match/5615
 351/ulinzi-stars-vs-tusker/
URL;VALUE=URI:https://streamradar.soccer/en/match/5615351/ulinzi-stars-vs-t
 usker/
STATUS:CONFIRMED
END:VEVENT
END:VCALENDAR
