BEGIN:VCALENDAR
VERSION:2.0
PRODID:-//StreamRadar//Match Calendar//EN
CALSCALE:GREGORIAN
METHOD:PUBLISH
X-WR-CALNAME:Germany U23 vs Denmark U23
X-WR-TIMEZONE:America/New_York
BEGIN:VEVENT
UID:match-5615133@streamradar.soccer
SUMMARY:Germany U23 vs Denmark U23
DTSTAMP:20260421T145743Z
DTSTART;TZID=America/New_York:20260604T120000
DTEND;TZID=America/New_York:20260604T140000
DESCRIPTION:Where to watch Germany U23 vs Denmark U23 in the Women's Friend
 ly. Live stream and TV listings.\nhttps://streamradar.soccer/en/match/56151
 33/germany-u23-vs-denmark-u23/
URL;VALUE=URI:https://streamradar.soccer/en/match/5615133/germany-u23-vs-de
 nmark-u23/
STATUS:CONFIRMED
END:VEVENT
END:VCALENDAR
