BEGIN:VCALENDAR
VERSION:2.0
PRODID:-//StreamRadar//Match Calendar//EN
CALSCALE:GREGORIAN
METHOD:PUBLISH
X-WR-CALNAME:FC Helsingør vs Fremad Amager
X-WR-TIMEZONE:America/New_York
BEGIN:VEVENT
UID:match-5613155@streamradar.soccer
SUMMARY:FC Helsingør vs Fremad Amager
DTSTAMP:20260421T071539Z
DTSTART;TZID=America/New_York:20260513T123000
DTEND;TZID=America/New_York:20260513T143000
DESCRIPTION:Where to watch FC Helsingør vs Fremad Amager in the 2. divisio
 n. Live stream and TV listings.\nhttps://streamradar.soccer/en/match/561315
 5/fc-helsingor-vs-fremad-amager/
URL;VALUE=URI:https://streamradar.soccer/en/match/5613155/fc-helsingor-vs-f
 remad-amager/
STATUS:CONFIRMED
END:VEVENT
END:VCALENDAR
