BEGIN:VCALENDAR
VERSION:2.0
PRODID:-//StreamRadar//Match Calendar//EN
CALSCALE:GREGORIAN
METHOD:PUBLISH
X-WR-CALNAME:Fremad Amager vs FC Helsingør
X-WR-TIMEZONE:America/New_York
BEGIN:VEVENT
UID:match-5612712@streamradar.soccer
SUMMARY:Fremad Amager vs FC Helsingør
DTSTAMP:20260421T093146Z
DTSTART;TZID=America/New_York:20260418T123000
DTEND;TZID=America/New_York:20260418T143000
LOCATION:Sundby Idrætspark (København)
DESCRIPTION:Where to watch Fremad Amager vs FC Helsingør in the 2. divisio
 n. Live stream and TV listings.\nhttps://streamradar.soccer/en/match/561271
 2/fremad-amager-vs-fc-helsingor/
URL;VALUE=URI:https://streamradar.soccer/en/match/5612712/fremad-amager-vs-
 fc-helsingor/
STATUS:CONFIRMED
END:VEVENT
END:VCALENDAR
