BEGIN:VCALENDAR
VERSION:2.0
PRODID:-//StreamRadar//Match Calendar//EN
CALSCALE:GREGORIAN
METHOD:PUBLISH
X-WR-CALNAME:Smail vs Al Nahda
X-WR-TIMEZONE:America/New_York
BEGIN:VEVENT
UID:match-5612655@streamradar.soccer
SUMMARY:Smail vs Al Nahda
DTSTAMP:20260421T062035Z
DTSTART;TZID=America/New_York:20260430T095500
DTEND;TZID=America/New_York:20260430T115500
DESCRIPTION:Where to watch Smail vs Al Nahda in the Omani League. Live stre
 am and TV listings.\nhttps://streamradar.soccer/en/match/5612655/smail-vs-a
 l-nahda/
URL;VALUE=URI:https://streamradar.soccer/en/match/5612655/smail-vs-al-nahda
 /
STATUS:CONFIRMED
END:VEVENT
END:VCALENDAR
