BEGIN:VCALENDAR
VERSION:2.0
PRODID:-//StreamRadar//Match Calendar//EN
CALSCALE:GREGORIAN
METHOD:PUBLISH
X-WR-CALNAME:Javor Ivanjica vs IMT Novi Beograd
X-WR-TIMEZONE:America/New_York
BEGIN:VEVENT
UID:match-5612204@streamradar.soccer
SUMMARY:Javor Ivanjica vs IMT Novi Beograd
DTSTAMP:20260421T104634Z
DTSTART;TZID=America/New_York:20260503T130000
DTEND;TZID=America/New_York:20260503T150000
LOCATION:Stadion Kraj Moravice
DESCRIPTION:Where to watch Javor Ivanjica vs IMT Novi Beograd in the Super 
 Liga. Live stream and TV listings.\nhttps://streamradar.soccer/en/match/561
 2204/javor-ivanjica-vs-imt-novi-beograd/
URL;VALUE=URI:https://streamradar.soccer/en/match/5612204/javor-ivanjica-vs
 -imt-novi-beograd/
STATUS:CONFIRMED
END:VEVENT
END:VCALENDAR
