BEGIN:VCALENDAR
VERSION:2.0
PRODID:-//StreamRadar//Match Calendar//EN
CALSCALE:GREGORIAN
METHOD:PUBLISH
X-WR-CALNAME:Shahter Taganrog vs Rostov 2
X-WR-TIMEZONE:America/New_York
BEGIN:VEVENT
UID:match-5611572@streamradar.soccer
SUMMARY:Shahter Taganrog vs Rostov 2
DTSTAMP:20260421T092223Z
DTSTART;TZID=America/New_York:20260510T090000
DTEND;TZID=America/New_York:20260510T110000
DESCRIPTION:Where to watch Shahter Taganrog vs Rostov 2 in the FNL 2. Live 
 stream and TV listings.\nhttps://streamradar.soccer/en/match/5611572/shahte
 r-taganrog-vs-rostov-2/
URL;VALUE=URI:https://streamradar.soccer/en/match/5611572/shahter-taganrog-
 vs-rostov-2/
STATUS:CONFIRMED
END:VEVENT
END:VCALENDAR
