BEGIN:VCALENDAR
VERSION:2.0
PRODID:-//StreamRadar//Match Calendar//EN
CALSCALE:GREGORIAN
METHOD:PUBLISH
X-WR-CALNAME:KCB vs Homeboyz
X-WR-TIMEZONE:America/New_York
BEGIN:VEVENT
UID:match-5611443@streamradar.soccer
SUMMARY:KCB vs Homeboyz
DTSTAMP:20260421T041010Z
DTSTART;TZID=America/New_York:20260425T060000
DTEND;TZID=America/New_York:20260425T080000
LOCATION:Kasarani Annex Stadium (Nairobi)
DESCRIPTION:Where to watch KCB vs Homeboyz in the Kenyan Premier League. Li
 ve stream and TV listings.\nhttps://streamradar.soccer/en/match/5611443/kcb
 -vs-homeboyz/
URL;VALUE=URI:https://streamradar.soccer/en/match/5611443/kcb-vs-homeboyz/
STATUS:CONFIRMED
END:VEVENT
END:VCALENDAR
