BEGIN:VCALENDAR
VERSION:2.0
PRODID:-//StreamRadar//Match Calendar//EN
CALSCALE:GREGORIAN
METHOD:PUBLISH
X-WR-CALNAME:Wigry Suwałki vs Mlawa
X-WR-TIMEZONE:America/New_York
BEGIN:VEVENT
UID:match-5610845@streamradar.soccer
SUMMARY:Wigry Suwałki vs Mlawa
DTSTAMP:20260421T063016Z
DTSTART;TZID=America/New_York:20260509T130000
DTEND;TZID=America/New_York:20260509T150000
DESCRIPTION:Where to watch Wigry Suwałki vs Mlawa in the III Liga. Live st
 ream and TV listings.\nhttps://streamradar.soccer/en/match/5610845/wigry-su
 walki-vs-mlawa/
URL;VALUE=URI:https://streamradar.soccer/en/match/5610845/wigry-suwalki-vs-
 mlawa/
STATUS:CONFIRMED
END:VEVENT
END:VCALENDAR
