BEGIN:VCALENDAR
VERSION:2.0
PRODID:-//StreamRadar//Match Calendar//EN
CALSCALE:GREGORIAN
METHOD:PUBLISH
X-WR-CALNAME:Inter Sibiu vs Muscel
X-WR-TIMEZONE:America/New_York
BEGIN:VEVENT
UID:match-5610133@streamradar.soccer
SUMMARY:Inter Sibiu vs Muscel
DTSTAMP:20260421T095701Z
DTSTART;TZID=America/New_York:20260508T110000
DTEND;TZID=America/New_York:20260508T130000
DESCRIPTION:Where to watch Inter Sibiu vs Muscel in the Liga III. Live stre
 am and TV listings.\nhttps://streamradar.soccer/en/match/5610133/inter-sibi
 u-vs-muscel/
URL;VALUE=URI:https://streamradar.soccer/en/match/5610133/inter-sibiu-vs-mu
 scel/
STATUS:CONFIRMED
END:VEVENT
END:VCALENDAR
