BEGIN:VCALENDAR
VERSION:2.0
PRODID:-//StreamRadar//Match Calendar//EN
CALSCALE:GREGORIAN
METHOD:PUBLISH
X-WR-CALNAME:Uni Minsk vs Slonim
X-WR-TIMEZONE:America/New_York
BEGIN:VEVENT
UID:match-5594941@streamradar.soccer
SUMMARY:Uni Minsk vs Slonim
DTSTAMP:20260423T200359Z
DTSTART;TZID=America/New_York:20260919T110000
DTEND;TZID=America/New_York:20260919T130000
LOCATION:Dinamo-Yuni Stadium
DESCRIPTION:Where to watch Uni Minsk vs Slonim in the First League. Live st
 ream and TV listings.\nhttps://streamradar.soccer/en/match/5594941/uni-mins
 k-vs-slonim/
URL;VALUE=URI:https://streamradar.soccer/en/match/5594941/uni-minsk-vs-slon
 im/
STATUS:CONFIRMED
END:VEVENT
END:VCALENDAR
