BEGIN:VCALENDAR
VERSION:2.0
PRODID:-//StreamRadar//Match Calendar//EN
CALSCALE:GREGORIAN
METHOD:PUBLISH
X-WR-CALNAME:Barkchi Hisor vs Sardor Tursunzoda
X-WR-TIMEZONE:America/New_York
BEGIN:VEVENT
UID:match-5593876@streamradar.soccer
SUMMARY:Barkchi Hisor vs Sardor Tursunzoda
DTSTAMP:20260425T174323Z
DTSTART;TZID=America/New_York:20260918T090000
DTEND;TZID=America/New_York:20260918T110000
DESCRIPTION:Where to watch Barkchi Hisor vs Sardor Tursunzoda in the Tajik 
 League. Live stream and TV listings.\nhttps://streamradar.soccer/en/match/5
 593876/barkchi-hisor-vs-sardor-tursunzoda/
URL;VALUE=URI:https://streamradar.soccer/en/match/5593876/barkchi-hisor-vs-
 sardor-tursunzoda/
STATUS:CONFIRMED
END:VEVENT
END:VCALENDAR
