BEGIN:VCALENDAR
VERSION:2.0
PRODID:-//StreamRadar//Match Calendar//EN
CALSCALE:GREGORIAN
METHOD:PUBLISH
X-WR-CALNAME:Dinamo Brest vs Dnepr Mogilev
X-WR-TIMEZONE:America/New_York
BEGIN:VEVENT
UID:match-5593215@streamradar.soccer
SUMMARY:Dinamo Brest vs Dnepr Mogilev
DTSTAMP:20260423T170902Z
DTSTART;TZID=America/New_York:20260919T110000
DTEND;TZID=America/New_York:20260919T130000
LOCATION:Regional Sport Complex Brestskiy
DESCRIPTION:Where to watch Dinamo Brest vs Dnepr Mogilev in the Belarus Pre
 mier League. Live stream and TV listings.\nhttps://streamradar.soccer/en/ma
 tch/5593215/dinamo-brest-vs-dnepr-mogilev/
URL;VALUE=URI:https://streamradar.soccer/en/match/5593215/dinamo-brest-vs-d
 nepr-mogilev/
STATUS:CONFIRMED
END:VEVENT
END:VCALENDAR
