BEGIN:VCALENDAR
VERSION:2.0
PRODID:-//StreamRadar//Match Calendar//EN
CALSCALE:GREGORIAN
METHOD:PUBLISH
X-WR-CALNAME:Minsk vs Slavia
X-WR-TIMEZONE:America/New_York
BEGIN:VEVENT
UID:match-5593209@streamradar.soccer
SUMMARY:Minsk vs Slavia
DTSTAMP:20260423T170822Z
DTSTART;TZID=America/New_York:20260912T110000
DTEND;TZID=America/New_York:20260912T130000
LOCATION:Stadion Traktor
DESCRIPTION:Where to watch Minsk vs Slavia in the Belarus Premier League. L
 ive stream and TV listings.\nhttps://streamradar.soccer/en/match/5593209/mi
 nsk-vs-slavia/
URL;VALUE=URI:https://streamradar.soccer/en/match/5593209/minsk-vs-slavia/
STATUS:CONFIRMED
END:VEVENT
END:VCALENDAR
