BEGIN:VCALENDAR
VERSION:2.0
PRODID:-//StreamRadar//Match Calendar//EN
CALSCALE:GREGORIAN
METHOD:PUBLISH
X-WR-CALNAME:Shaanxi Union vs Suzhou Dongwu
X-WR-TIMEZONE:America/New_York
BEGIN:VEVENT
UID:match-5589242@streamradar.soccer
SUMMARY:Shaanxi Union vs Suzhou Dongwu
DTSTAMP:20260423T193443Z
DTSTART;TZID=America/New_York:20260919T070000
DTEND;TZID=America/New_York:20260919T090000
LOCATION:Weinan Sports Center Stadium
DESCRIPTION:Where to watch Shaanxi Union vs Suzhou Dongwu in the China Leag
 ue One. Live stream and TV listings.\nhttps://streamradar.soccer/en/match/5
 589242/shaanxi-union-vs-suzhou-dongwu/
URL;VALUE=URI:https://streamradar.soccer/en/match/5589242/shaanxi-union-vs-
 suzhou-dongwu/
STATUS:CONFIRMED
END:VEVENT
END:VCALENDAR
