BEGIN:VCALENDAR
VERSION:2.0
PRODID:-//StreamRadar//Match Calendar//EN
CALSCALE:GREGORIAN
METHOD:PUBLISH
X-WR-CALNAME:Meizhou Hakka vs Nanjing City
X-WR-TIMEZONE:America/New_York
BEGIN:VEVENT
UID:match-5589237@streamradar.soccer
SUMMARY:Meizhou Hakka vs Nanjing City
DTSTAMP:20260423T193437Z
DTSTART;TZID=America/New_York:20260913T073000
DTEND;TZID=America/New_York:20260913T093000
LOCATION:Wuhua County Olympic Sports Centre
DESCRIPTION:Where to watch Meizhou Hakka vs Nanjing City in the China Leagu
 e One. Live stream and TV listings.\nhttps://streamradar.soccer/en/match/55
 89237/meizhou-hakka-vs-nanjing-city/
URL;VALUE=URI:https://streamradar.soccer/en/match/5589237/meizhou-hakka-vs-
 nanjing-city/
STATUS:CONFIRMED
END:VEVENT
END:VCALENDAR
